BEGIN:VCALENDAR
VERSION:2.0
PRODID:icalendar-ruby
CALSCALE:GREGORIAN
METHOD:PUBLISH
BEGIN:VTIMEZONE
TZID:Australia/Brisbane
BEGIN:STANDARD
DTSTART:19920301T020000
TZOFFSETFROM:+1100
TZOFFSETTO:+1000
TZNAME:AEST
END:STANDARD
END:VTIMEZONE
BEGIN:VEVENT
DTSTAMP:20260423T034324Z
UID:inspection_3010720
DTSTART;TZID=Australia/Brisbane:20260427T130000
DTEND;TZID=Australia/Brisbane:20260427T131500
CLASS:PUBLIC
CREATED:20260423T105030
DESCRIPTION: 
LAST-MODIFIED:20260423T105030
LOCATION:8 Lind Lane\, SOUTH RIPLEY QLD 4306\, Australia
SUMMARY:8 Lind Lane\,  Inspection
URL;VALUE=URI:http://www.hupropertygroup.com.au/
END:VEVENT
END:VCALENDAR
